BEGIN:VCALENDAR
VERSION:2.0
PRODID:-//Explore Newnan-Coweta - ECPv6.15.18//NONSGML v1.0//EN
CALSCALE:GREGORIAN
METHOD:PUBLISH
X-ORIGINAL-URL:https://explorenewnancoweta.com
X-WR-CALDESC:Events for Explore Newnan-Coweta
REFRESH-INTERVAL;VALUE=DURATION:PT1H
X-Robots-Tag:noindex
X-PUBLISHED-TTL:PT1H
BEGIN:VTIMEZONE
TZID:America/New_York
BEGIN:DAYLIGHT
TZOFFSETFROM:-0500
TZOFFSETTO:-0400
TZNAME:EDT
DTSTART:20250309T070000
END:DAYLIGHT
BEGIN:STANDARD
TZOFFSETFROM:-0400
TZOFFSETTO:-0500
TZNAME:EST
DTSTART:20251102T060000
END:STANDARD
BEGIN:DAYLIGHT
TZOFFSETFROM:-0500
TZOFFSETTO:-0400
TZNAME:EDT
DTSTART:20260308T070000
END:DAYLIGHT
BEGIN:STANDARD
TZOFFSETFROM:-0400
TZOFFSETTO:-0500
TZNAME:EST
DTSTART:20261101T060000
END:STANDARD
BEGIN:DAYLIGHT
TZOFFSETFROM:-0500
TZOFFSETTO:-0400
TZNAME:EDT
DTSTART:20270314T070000
END:DAYLIGHT
BEGIN:STANDARD
TZOFFSETFROM:-0400
TZOFFSETTO:-0500
TZNAME:EST
DTSTART:20271107T060000
END:STANDARD
END:VTIMEZONE
BEGIN:VEVENT
DTSTART;TZID=America/New_York:20260424T170000
DTEND;TZID=America/New_York:20260424T210000
DTSTAMP:20260425T075536
CREATED:20260302T195332Z
LAST-MODIFIED:20260302T200704Z
UID:10002611-1777050000-1777064400@explorenewnancoweta.com
SUMMARY:The Locals Friday Market
DESCRIPTION:Every fourth Friday of the month from 5:00pm–9:00pm\, The Locals Market in Grantville\, GA is the place to be for family fun! Browse a variety of market vendors\, grab a bite and enjoy fun activities for the kids. \nIf you would like to become part of The Locals Market apply here. \n\n\nMarch 27 – GLOWing EGGstravaganza (Glow in the dark egg hunt)\nApril 24 – Welcome to the Chocolate Factory (Willy Wonka table\, 5 Golden Tickets will be handed out)\nMay 22 – Away With You (Guess the guts game\, Daryl’s Ear Hunt)\nJune 26 – Freedom Fest (4th of July themed scavenger hunt\, hot dog eating contest)\nJuly 24 – It’s Tiki Time (Limbo\, DIY lei making station)\nAugust 28 – Retro Revival (DIY lava lamps\, tie dye butterflies)\nSeptember 25 – Wizardly World Gathering (Sorting hat ceremony\, DIY potions)\nOctober 23 – Boo Bash (trick or treat\, costume contest\, mini pumpkin painting)
URL:https://explorenewnancoweta.com/things-to-do/events/the-locals-market/2026-04-24/
LOCATION:Grantville\, Georgia\, 30220\, United States
ATTACH;FMTTYPE=image/jpeg:https://explorenewnancoweta.com/wp-content/uploads/2025/05/412602116_286097687770396_1686037988433749024_n.jpg
ORGANIZER;CN="Wildflower Gifts & Boutique":MAILTO:thelocalsmarket.info@gmail.com
END:VEVENT
BEGIN:VEVENT
DTSTART;TZID=America/New_York:20260411T100000
DTEND;TZID=America/New_York:20260411T150000
DTSTAMP:20260425T075536
CREATED:20260302T195623Z
LAST-MODIFIED:20260302T201002Z
UID:10002627-1775901600-1775919600@explorenewnancoweta.com
SUMMARY:The Locals Saturday Market
DESCRIPTION:Every second Saturday of the month from 10:00am-3:00pm\, The Locals Market in Grantville\, GA is the place to be for family fun! Browse a variety of market vendors\, grab a bite and enjoy fun activities for the kids. \nIf you would like to become part of The Locals Market apply here. \n\n\nMarch 14 – Shamrock Treasure Quest (St. Patrick’s themed scavenger hunt)\nApril 11- Plant Pals (DIY planting seeds to take home)\nMay 9- Mama’s Flower Bar (Create a mini bouquet of fresh flowers)\nJune 13- Dad’s Candy Bar (Create a mini jar of favorite candies)\nJuly 11- Taco ‘Bout Fun (piñata\, maraca decorating)\nAugust 8- Pawty in the Park (paw print craft\, Cutest dog contest)\nSeptember 12- Bridgerton Garden (croquet\, Who is Lady Wistledown?\, Silhouette photos)\nOctober 10- The Big Top (clown\, carnival games)\nNovember 14- Autumn Harvest (Pie eating contest\, Thankful Tree)\nDecember 12- Tinsel & Tidings (Santa\, letters to Santa\, DIY ornaments)
URL:https://explorenewnancoweta.com/things-to-do/events/the-locals-saturday-market/2026-04-11/
LOCATION:Grantville\, Georgia\, 30220\, United States
ATTACH;FMTTYPE=image/jpeg:https://explorenewnancoweta.com/wp-content/uploads/2025/05/412602116_286097687770396_1686037988433749024_n.jpg
ORGANIZER;CN="Wildflower Gifts & Boutique":MAILTO:thelocalsmarket.info@gmail.com
END:VEVENT
BEGIN:VEVENT
DTSTART;TZID=America/New_York:20260327T170000
DTEND;TZID=America/New_York:20260327T210000
DTSTAMP:20260425T075536
CREATED:20260302T195332Z
LAST-MODIFIED:20260302T200704Z
UID:10002610-1774630800-1774645200@explorenewnancoweta.com
SUMMARY:The Locals Friday Market
DESCRIPTION:Every fourth Friday of the month from 5:00pm–9:00pm\, The Locals Market in Grantville\, GA is the place to be for family fun! Browse a variety of market vendors\, grab a bite and enjoy fun activities for the kids. \nIf you would like to become part of The Locals Market apply here. \n\n\nMarch 27 – GLOWing EGGstravaganza (Glow in the dark egg hunt)\nApril 24 – Welcome to the Chocolate Factory (Willy Wonka table\, 5 Golden Tickets will be handed out)\nMay 22 – Away With You (Guess the guts game\, Daryl’s Ear Hunt)\nJune 26 – Freedom Fest (4th of July themed scavenger hunt\, hot dog eating contest)\nJuly 24 – It’s Tiki Time (Limbo\, DIY lei making station)\nAugust 28 – Retro Revival (DIY lava lamps\, tie dye butterflies)\nSeptember 25 – Wizardly World Gathering (Sorting hat ceremony\, DIY potions)\nOctober 23 – Boo Bash (trick or treat\, costume contest\, mini pumpkin painting)
URL:https://explorenewnancoweta.com/things-to-do/events/the-locals-market/2026-03-27/
LOCATION:Grantville\, Georgia\, 30220\, United States
ATTACH;FMTTYPE=image/jpeg:https://explorenewnancoweta.com/wp-content/uploads/2025/05/412602116_286097687770396_1686037988433749024_n.jpg
ORGANIZER;CN="Wildflower Gifts & Boutique":MAILTO:thelocalsmarket.info@gmail.com
END:VEVENT
BEGIN:VEVENT
DTSTART;TZID=America/New_York:20260314T100000
DTEND;TZID=America/New_York:20260314T150000
DTSTAMP:20260425T075536
CREATED:20260302T195623Z
LAST-MODIFIED:20260302T201002Z
UID:10002626-1773482400-1773500400@explorenewnancoweta.com
SUMMARY:The Locals Saturday Market
DESCRIPTION:Every second Saturday of the month from 10:00am-3:00pm\, The Locals Market in Grantville\, GA is the place to be for family fun! Browse a variety of market vendors\, grab a bite and enjoy fun activities for the kids. \nIf you would like to become part of The Locals Market apply here. \n\n\nMarch 14 – Shamrock Treasure Quest (St. Patrick’s themed scavenger hunt)\nApril 11- Plant Pals (DIY planting seeds to take home)\nMay 9- Mama’s Flower Bar (Create a mini bouquet of fresh flowers)\nJune 13- Dad’s Candy Bar (Create a mini jar of favorite candies)\nJuly 11- Taco ‘Bout Fun (piñata\, maraca decorating)\nAugust 8- Pawty in the Park (paw print craft\, Cutest dog contest)\nSeptember 12- Bridgerton Garden (croquet\, Who is Lady Wistledown?\, Silhouette photos)\nOctober 10- The Big Top (clown\, carnival games)\nNovember 14- Autumn Harvest (Pie eating contest\, Thankful Tree)\nDecember 12- Tinsel & Tidings (Santa\, letters to Santa\, DIY ornaments)
URL:https://explorenewnancoweta.com/things-to-do/events/the-locals-saturday-market/2026-03-14/
LOCATION:Grantville\, Georgia\, 30220\, United States
ATTACH;FMTTYPE=image/jpeg:https://explorenewnancoweta.com/wp-content/uploads/2025/05/412602116_286097687770396_1686037988433749024_n.jpg
ORGANIZER;CN="Wildflower Gifts & Boutique":MAILTO:thelocalsmarket.info@gmail.com
END:VEVENT
END:VCALENDAR