BEGIN:VCALENDAR
VERSION:2.0
PRODID:-//Explore Newnan-Coweta - ECPv6.15.18//NONSGML v1.0//EN
CALSCALE:GREGORIAN
METHOD:PUBLISH
X-WR-CALNAME:Explore Newnan-Coweta
X-ORIGINAL-URL:https://explorenewnancoweta.com
X-WR-CALDESC:Events for Explore Newnan-Coweta
REFRESH-INTERVAL;VALUE=DURATION:PT1H
X-Robots-Tag:noindex
X-PUBLISHED-TTL:PT1H
BEGIN:VTIMEZONE
TZID:America/New_York
BEGIN:DAYLIGHT
TZOFFSETFROM:-0500
TZOFFSETTO:-0400
TZNAME:EDT
DTSTART:20250309T070000
END:DAYLIGHT
BEGIN:STANDARD
TZOFFSETFROM:-0400
TZOFFSETTO:-0500
TZNAME:EST
DTSTART:20251102T060000
END:STANDARD
BEGIN:DAYLIGHT
TZOFFSETFROM:-0500
TZOFFSETTO:-0400
TZNAME:EDT
DTSTART:20260308T070000
END:DAYLIGHT
BEGIN:STANDARD
TZOFFSETFROM:-0400
TZOFFSETTO:-0500
TZNAME:EST
DTSTART:20261101T060000
END:STANDARD
BEGIN:DAYLIGHT
TZOFFSETFROM:-0500
TZOFFSETTO:-0400
TZNAME:EDT
DTSTART:20270314T070000
END:DAYLIGHT
BEGIN:STANDARD
TZOFFSETFROM:-0400
TZOFFSETTO:-0500
TZNAME:EST
DTSTART:20271107T060000
END:STANDARD
END:VTIMEZONE
BEGIN:VEVENT
DTSTART;TZID=America/New_York:20261114T100000
DTEND;TZID=America/New_York:20261114T150000
DTSTAMP:20260425T080111
CREATED:20260302T195623Z
LAST-MODIFIED:20260302T201002Z
UID:10002634-1794650400-1794668400@explorenewnancoweta.com
SUMMARY:The Locals Saturday Market
DESCRIPTION:Every second Saturday of the month from 10:00am-3:00pm\, The Locals Market in Grantville\, GA is the place to be for family fun! Browse a variety of market vendors\, grab a bite and enjoy fun activities for the kids. \nIf you would like to become part of The Locals Market apply here. \n\n\nMarch 14 – Shamrock Treasure Quest (St. Patrick’s themed scavenger hunt)\nApril 11- Plant Pals (DIY planting seeds to take home)\nMay 9- Mama’s Flower Bar (Create a mini bouquet of fresh flowers)\nJune 13- Dad’s Candy Bar (Create a mini jar of favorite candies)\nJuly 11- Taco ‘Bout Fun (piñata\, maraca decorating)\nAugust 8- Pawty in the Park (paw print craft\, Cutest dog contest)\nSeptember 12- Bridgerton Garden (croquet\, Who is Lady Wistledown?\, Silhouette photos)\nOctober 10- The Big Top (clown\, carnival games)\nNovember 14- Autumn Harvest (Pie eating contest\, Thankful Tree)\nDecember 12- Tinsel & Tidings (Santa\, letters to Santa\, DIY ornaments)
URL:https://explorenewnancoweta.com/things-to-do/events/the-locals-saturday-market/2026-11-14/
LOCATION:Grantville\, Georgia\, 30220\, United States
ATTACH;FMTTYPE=image/jpeg:https://explorenewnancoweta.com/wp-content/uploads/2025/05/412602116_286097687770396_1686037988433749024_n.jpg
ORGANIZER;CN="Wildflower Gifts & Boutique":MAILTO:thelocalsmarket.info@gmail.com
END:VEVENT
BEGIN:VEVENT
DTSTART;TZID=America/New_York:20261212T100000
DTEND;TZID=America/New_York:20261212T150000
DTSTAMP:20260425T080111
CREATED:20260302T195623Z
LAST-MODIFIED:20260302T201002Z
UID:10002635-1797069600-1797087600@explorenewnancoweta.com
SUMMARY:The Locals Saturday Market
DESCRIPTION:Every second Saturday of the month from 10:00am-3:00pm\, The Locals Market in Grantville\, GA is the place to be for family fun! Browse a variety of market vendors\, grab a bite and enjoy fun activities for the kids. \nIf you would like to become part of The Locals Market apply here. \n\n\nMarch 14 – Shamrock Treasure Quest (St. Patrick’s themed scavenger hunt)\nApril 11- Plant Pals (DIY planting seeds to take home)\nMay 9- Mama’s Flower Bar (Create a mini bouquet of fresh flowers)\nJune 13- Dad’s Candy Bar (Create a mini jar of favorite candies)\nJuly 11- Taco ‘Bout Fun (piñata\, maraca decorating)\nAugust 8- Pawty in the Park (paw print craft\, Cutest dog contest)\nSeptember 12- Bridgerton Garden (croquet\, Who is Lady Wistledown?\, Silhouette photos)\nOctober 10- The Big Top (clown\, carnival games)\nNovember 14- Autumn Harvest (Pie eating contest\, Thankful Tree)\nDecember 12- Tinsel & Tidings (Santa\, letters to Santa\, DIY ornaments)
URL:https://explorenewnancoweta.com/things-to-do/events/the-locals-saturday-market/2026-12-12/
LOCATION:Grantville\, Georgia\, 30220\, United States
ATTACH;FMTTYPE=image/jpeg:https://explorenewnancoweta.com/wp-content/uploads/2025/05/412602116_286097687770396_1686037988433749024_n.jpg
ORGANIZER;CN="Wildflower Gifts & Boutique":MAILTO:thelocalsmarket.info@gmail.com
END:VEVENT
END:VCALENDAR