BEGIN:VCALENDAR
VERSION:2.0
PRODID:-//Explore Newnan-Coweta - ECPv6.15.18//NONSGML v1.0//EN
CALSCALE:GREGORIAN
METHOD:PUBLISH
X-ORIGINAL-URL:https://explorenewnancoweta.com
X-WR-CALDESC:Events for Explore Newnan-Coweta
REFRESH-INTERVAL;VALUE=DURATION:PT1H
X-Robots-Tag:noindex
X-PUBLISHED-TTL:PT1H
BEGIN:VTIMEZONE
TZID:America/New_York
BEGIN:DAYLIGHT
TZOFFSETFROM:-0500
TZOFFSETTO:-0400
TZNAME:EDT
DTSTART:20250309T070000
END:DAYLIGHT
BEGIN:STANDARD
TZOFFSETFROM:-0400
TZOFFSETTO:-0500
TZNAME:EST
DTSTART:20251102T060000
END:STANDARD
BEGIN:DAYLIGHT
TZOFFSETFROM:-0500
TZOFFSETTO:-0400
TZNAME:EDT
DTSTART:20260308T070000
END:DAYLIGHT
BEGIN:STANDARD
TZOFFSETFROM:-0400
TZOFFSETTO:-0500
TZNAME:EST
DTSTART:20261101T060000
END:STANDARD
BEGIN:DAYLIGHT
TZOFFSETFROM:-0500
TZOFFSETTO:-0400
TZNAME:EDT
DTSTART:20270314T070000
END:DAYLIGHT
BEGIN:STANDARD
TZOFFSETFROM:-0400
TZOFFSETTO:-0500
TZNAME:EST
DTSTART:20271107T060000
END:STANDARD
END:VTIMEZONE
BEGIN:VEVENT
DTSTART;TZID=America/New_York:20260829T170000
DTEND;TZID=America/New_York:20260829T220000
DTSTAMP:20260421T061949
CREATED:20260205T151337Z
LAST-MODIFIED:20260205T151342Z
UID:10002591-1788022800-1788040800@explorenewnancoweta.com
SUMMARY:Topless Outlaws
DESCRIPTION:Buckle up for flying dirt\, roaring engines and edge-of-your-seat action as drivers battle it out under the lights. From the drop of the green flag to the wave of the checkered\, expect high-speed thrills\, tight turns and nonstop excitement that’ll have fans of all ages cheering all night long. \nHot Shot | Bomber | 602 Charger | 602 | Limited (non points for local limited division) 
URL:https://explorenewnancoweta.com/things-to-do/events/topless-outlaws-3/
LOCATION:Senoia Raceway\, 171 Brown Road\, Senoia\, GA\, 30276\, United States
ATTACH;FMTTYPE=image/png:https://explorenewnancoweta.com/wp-content/uploads/2022/10/senoiaraceway-1.png
ORGANIZER;CN="Senoia Raceway":MAILTO:Events@senoiaraceway1969.com
END:VEVENT
BEGIN:VEVENT
DTSTART;TZID=America/New_York:20260912T170000
DTEND;TZID=America/New_York:20260912T220000
DTSTAMP:20260421T061949
CREATED:20260205T151535Z
LAST-MODIFIED:20260205T151535Z
UID:10002592-1789232400-1789250400@explorenewnancoweta.com
SUMMARY:Modified Special
DESCRIPTION:Buckle up for flying dirt\, roaring engines and edge-of-your-seat action as drivers battle it out under the lights. From the drop of the green flag to the wave of the checkered\, expect high-speed thrills\, tight turns and nonstop excitement that’ll have fans of all ages cheering all night long. \nBomber | Modified | 602 | 604 | Limited 
URL:https://explorenewnancoweta.com/things-to-do/events/modified-special-2/
LOCATION:Senoia Raceway\, 171 Brown Road\, Senoia\, GA\, 30276\, United States
ATTACH;FMTTYPE=image/png:https://explorenewnancoweta.com/wp-content/uploads/2022/10/senoiaraceway-1.png
ORGANIZER;CN="Senoia Raceway":MAILTO:Events@senoiaraceway1969.com
END:VEVENT
BEGIN:VEVENT
DTSTART;TZID=America/New_York:20260926T170000
DTEND;TZID=America/New_York:20260926T220000
DTSTAMP:20260421T061949
CREATED:20260205T151713Z
LAST-MODIFIED:20260205T151713Z
UID:10002593-1790442000-1790460000@explorenewnancoweta.com
SUMMARY:Regular Show
DESCRIPTION:Buckle up for flying dirt\, roaring engines and edge-of-your-seat action as drivers battle it out under the lights. From the drop of the green flag to the wave of the checkered\, expect high-speed thrills\, tight turns and nonstop excitement that’ll have fans of all ages cheering all night long. \nHot Shot | Mini | Bomber | Hobby | Modified | 602 | Charger | 604 | Limited 
URL:https://explorenewnancoweta.com/things-to-do/events/regular-show-3/
LOCATION:Senoia Raceway\, 171 Brown Road\, Senoia\, GA\, 30276\, United States
ATTACH;FMTTYPE=image/png:https://explorenewnancoweta.com/wp-content/uploads/2022/10/senoiaraceway-1.png
ORGANIZER;CN="Senoia Raceway":MAILTO:Events@senoiaraceway1969.com
END:VEVENT
BEGIN:VEVENT
DTSTART;TZID=America/New_York:20261010T170000
DTEND;TZID=America/New_York:20261010T220000
DTSTAMP:20260421T061949
CREATED:20260205T151848Z
LAST-MODIFIED:20260205T151848Z
UID:10002594-1791651600-1791669600@explorenewnancoweta.com
SUMMARY:Regular Show
DESCRIPTION:Buckle up for flying dirt\, roaring engines and edge-of-your-seat action as drivers battle it out under the lights. From the drop of the green flag to the wave of the checkered\, expect high-speed thrills\, tight turns and nonstop excitement that’ll have fans of all ages cheering all night long. \nHot Shot | Mini Stock | Bomber | Hobby | Modified | 602 Charger | 602 | 604 | Limited 
URL:https://explorenewnancoweta.com/things-to-do/events/regular-show-4/
LOCATION:Senoia Raceway\, 171 Brown Road\, Senoia\, GA\, 30276\, United States
ATTACH;FMTTYPE=image/png:https://explorenewnancoweta.com/wp-content/uploads/2022/10/senoiaraceway-1.png
ORGANIZER;CN="Senoia Raceway":MAILTO:Events@senoiaraceway1969.com
END:VEVENT
BEGIN:VEVENT
DTSTART;TZID=America/New_York:20261017T170000
DTEND;TZID=America/New_York:20261017T220000
DTSTAMP:20260421T061949
CREATED:20260205T152034Z
LAST-MODIFIED:20260205T152034Z
UID:10002595-1792256400-1792274400@explorenewnancoweta.com
SUMMARY:Season Points Finale
DESCRIPTION:Buckle up for flying dirt\, roaring engines and edge-of-your-seat action as drivers battle it out under the lights. From the drop of the green flag to the wave of the checkered\, expect high-speed thrills\, tight turns and nonstop excitement that’ll have fans of all ages cheering all night long. \nHot Shot | Mini Stock | Bomber | Hobby | Modified | 602 Charger | 602 | 604 | Limited 
URL:https://explorenewnancoweta.com/things-to-do/events/season-points-finale/
LOCATION:Senoia Raceway\, 171 Brown Road\, Senoia\, GA\, 30276\, United States
ATTACH;FMTTYPE=image/png:https://explorenewnancoweta.com/wp-content/uploads/2022/10/senoiaraceway-1.png
ORGANIZER;CN="Senoia Raceway":MAILTO:Events@senoiaraceway1969.com
END:VEVENT
BEGIN:VEVENT
DTSTART;TZID=America/New_York:20261112T170000
DTEND;TZID=America/New_York:20261112T220000
DTSTAMP:20260421T061949
CREATED:20260205T152354Z
LAST-MODIFIED:20260205T152354Z
UID:10002596-1794502800-1794520800@explorenewnancoweta.com
SUMMARY:Peach State Classic
DESCRIPTION:Buckle up for flying dirt\, roaring engines and edge-of-your-seat action as drivers battle it out under the lights. From the drop of the green flag to the wave of the checkered\, expect high-speed thrills\, tight turns and nonstop excitement that’ll have fans of all ages cheering all night long.
URL:https://explorenewnancoweta.com/things-to-do/events/peach-state-classic-3/2026-11-12/
LOCATION:Senoia Raceway\, 171 Brown Road\, Senoia\, GA\, 30276\, United States
ATTACH;FMTTYPE=image/png:https://explorenewnancoweta.com/wp-content/uploads/2022/10/senoiaraceway-1.png
ORGANIZER;CN="Senoia Raceway":MAILTO:Events@senoiaraceway1969.com
END:VEVENT
BEGIN:VEVENT
DTSTART;TZID=America/New_York:20261113T170000
DTEND;TZID=America/New_York:20261113T220000
DTSTAMP:20260421T061949
CREATED:20260205T152354Z
LAST-MODIFIED:20260205T152354Z
UID:10002597-1794589200-1794607200@explorenewnancoweta.com
SUMMARY:Peach State Classic
DESCRIPTION:Buckle up for flying dirt\, roaring engines and edge-of-your-seat action as drivers battle it out under the lights. From the drop of the green flag to the wave of the checkered\, expect high-speed thrills\, tight turns and nonstop excitement that’ll have fans of all ages cheering all night long.
URL:https://explorenewnancoweta.com/things-to-do/events/peach-state-classic-3/2026-11-13/
LOCATION:Senoia Raceway\, 171 Brown Road\, Senoia\, GA\, 30276\, United States
ATTACH;FMTTYPE=image/png:https://explorenewnancoweta.com/wp-content/uploads/2022/10/senoiaraceway-1.png
ORGANIZER;CN="Senoia Raceway":MAILTO:Events@senoiaraceway1969.com
END:VEVENT
BEGIN:VEVENT
DTSTART;TZID=America/New_York:20261114T170000
DTEND;TZID=America/New_York:20261114T220000
DTSTAMP:20260421T061949
CREATED:20260205T152354Z
LAST-MODIFIED:20260205T152354Z
UID:10002598-1794675600-1794693600@explorenewnancoweta.com
SUMMARY:Peach State Classic
DESCRIPTION:Buckle up for flying dirt\, roaring engines and edge-of-your-seat action as drivers battle it out under the lights. From the drop of the green flag to the wave of the checkered\, expect high-speed thrills\, tight turns and nonstop excitement that’ll have fans of all ages cheering all night long.
URL:https://explorenewnancoweta.com/things-to-do/events/peach-state-classic-3/2026-11-14/
LOCATION:Senoia Raceway\, 171 Brown Road\, Senoia\, GA\, 30276\, United States
ATTACH;FMTTYPE=image/png:https://explorenewnancoweta.com/wp-content/uploads/2022/10/senoiaraceway-1.png
ORGANIZER;CN="Senoia Raceway":MAILTO:Events@senoiaraceway1969.com
END:VEVENT
BEGIN:VEVENT
DTSTART;TZID=America/New_York:20261115T170000
DTEND;TZID=America/New_York:20261115T220000
DTSTAMP:20260421T061949
CREATED:20260205T152354Z
LAST-MODIFIED:20260205T152354Z
UID:10002599-1794762000-1794780000@explorenewnancoweta.com
SUMMARY:Peach State Classic
DESCRIPTION:Buckle up for flying dirt\, roaring engines and edge-of-your-seat action as drivers battle it out under the lights. From the drop of the green flag to the wave of the checkered\, expect high-speed thrills\, tight turns and nonstop excitement that’ll have fans of all ages cheering all night long.
URL:https://explorenewnancoweta.com/things-to-do/events/peach-state-classic-3/2026-11-15/
LOCATION:Senoia Raceway\, 171 Brown Road\, Senoia\, GA\, 30276\, United States
ATTACH;FMTTYPE=image/png:https://explorenewnancoweta.com/wp-content/uploads/2022/10/senoiaraceway-1.png
ORGANIZER;CN="Senoia Raceway":MAILTO:Events@senoiaraceway1969.com
END:VEVENT
END:VCALENDAR